BEGIN:VCALENDAR
VERSION:2.0
PRODID:-//Central Coast Art Association - ECPv6.15.18//NONSGML v1.0//EN
CALSCALE:GREGORIAN
METHOD:PUBLISH
X-ORIGINAL-URL:https://centralcoastartassociation.com
X-WR-CALDESC:Events for Central Coast Art Association
REFRESH-INTERVAL;VALUE=DURATION:PT1H
X-Robots-Tag:noindex
X-PUBLISHED-TTL:PT1H
BEGIN:VTIMEZONE
TZID:America/Los_Angeles
BEGIN:DAYLIGHT
TZOFFSETFROM:-0800
TZOFFSETTO:-0700
TZNAME:PDT
DTSTART:20240310T100000
END:DAYLIGHT
BEGIN:STANDARD
TZOFFSETFROM:-0700
TZOFFSETTO:-0800
TZNAME:PST
DTSTART:20241103T090000
END:STANDARD
BEGIN:DAYLIGHT
TZOFFSETFROM:-0800
TZOFFSETTO:-0700
TZNAME:PDT
DTSTART:20250309T100000
END:DAYLIGHT
BEGIN:STANDARD
TZOFFSETFROM:-0700
TZOFFSETTO:-0800
TZNAME:PST
DTSTART:20251102T090000
END:STANDARD
BEGIN:DAYLIGHT
TZOFFSETFROM:-0800
TZOFFSETTO:-0700
TZNAME:PDT
DTSTART:20260308T100000
END:DAYLIGHT
BEGIN:STANDARD
TZOFFSETFROM:-0700
TZOFFSETTO:-0800
TZNAME:PST
DTSTART:20261101T090000
END:STANDARD
END:VTIMEZONE
BEGIN:VEVENT
DTSTART;VALUE=DATE:20251006
DTEND;VALUE=DATE:20251021
DTSTAMP:20260424T172854
CREATED:20240902T160121Z
LAST-MODIFIED:20251006T025649Z
UID:2225-1759708800-1761004799@centralcoastartassociation.com
SUMMARY:Call for Artists Fall Juried Show
DESCRIPTION:Submissions for the CCAA Fall Juried Show. \nArtists may submit up to 2 pieces for this show; 1st\, 2nd\, 3d prize and honorable mentions will be awarded. \nThe Call For Artists is open from Oct 6 through Oct 20. \nRead Guidelines HERE >> \nRegister HERE >> \nAll member artists are welcome at this show\, and we will have juried prizes awarded at the reception. \n 
URL:https://centralcoastartassociation.com/event/call-for-artists-fall-juried-show/
LOCATION:Meels on Wheels Community Center\, 700 Jewell Ave\, Pacific Grove\, California\, 93950
CATEGORIES:Call for Artists
ATTACH;FMTTYPE=image/jpeg:https://centralcoastartassociation.com/wp-content/uploads/2025/09/CCAA-Juried-Show-1000.jpg
END:VEVENT
END:VCALENDAR