BEGIN:VCALENDAR
VERSION:2.0
PRODID:-//Central Coast Art Association - ECPv6.15.18//NONSGML v1.0//EN
CALSCALE:GREGORIAN
METHOD:PUBLISH
X-ORIGINAL-URL:https://centralcoastartassociation.com
X-WR-CALDESC:Events for Central Coast Art Association
REFRESH-INTERVAL;VALUE=DURATION:PT1H
X-Robots-Tag:noindex
X-PUBLISHED-TTL:PT1H
BEGIN:VTIMEZONE
TZID:America/Los_Angeles
BEGIN:DAYLIGHT
TZOFFSETFROM:-0800
TZOFFSETTO:-0700
TZNAME:PDT
DTSTART:20240310T100000
END:DAYLIGHT
BEGIN:STANDARD
TZOFFSETFROM:-0700
TZOFFSETTO:-0800
TZNAME:PST
DTSTART:20241103T090000
END:STANDARD
BEGIN:DAYLIGHT
TZOFFSETFROM:-0800
TZOFFSETTO:-0700
TZNAME:PDT
DTSTART:20250309T100000
END:DAYLIGHT
BEGIN:STANDARD
TZOFFSETFROM:-0700
TZOFFSETTO:-0800
TZNAME:PST
DTSTART:20251102T090000
END:STANDARD
BEGIN:DAYLIGHT
TZOFFSETFROM:-0800
TZOFFSETTO:-0700
TZNAME:PDT
DTSTART:20260308T100000
END:DAYLIGHT
BEGIN:STANDARD
TZOFFSETFROM:-0700
TZOFFSETTO:-0800
TZNAME:PST
DTSTART:20261101T090000
END:STANDARD
END:VTIMEZONE
BEGIN:VEVENT
DTSTART;VALUE=DATE:20250109
DTEND;VALUE=DATE:20250303
DTSTAMP:20260425T091304
CREATED:20240925T235229Z
LAST-MODIFIED:20250103T170308Z
UID:2220-1736380800-1740959999@centralcoastartassociation.com
SUMMARY:Sunset Exhibit
DESCRIPTION:Reception: January 10\, 2025 5-7pm. Join us and enjoy some wine and snacks. \nWe will be showcasing 50 artists in the upcoming exhibit at the Marjorie Evans Gallery at the Sunset Center in Carmel. The show runs from January 9 to March 2 and can be viewed during the day or in the evenings when shows are running. \nMarjorie Evans Gallery \nSunset Center\n \nSan Carlos St at Ninth Ave\nCarmel\, CA
URL:https://centralcoastartassociation.com/event/sunset-exhibition/
LOCATION:Marjorie Evans Gallery\, San Carlos St at Ninth Ave\, Carmel\, CA\, 93921\, United States
CATEGORIES:Exhibits
ATTACH;FMTTYPE=image/jpeg:https://centralcoastartassociation.com/wp-content/uploads/2024/09/Sunset-Cultural-Center-500.jpg
END:VEVENT
END:VCALENDAR