BEGIN:VCALENDAR
VERSION:2.0
PRODID:-//Central Coast Art Association - ECPv6.15.18//NONSGML v1.0//EN
CALSCALE:GREGORIAN
METHOD:PUBLISH
X-WR-CALNAME:Central Coast Art Association
X-ORIGINAL-URL:https://centralcoastartassociation.com
X-WR-CALDESC:Events for Central Coast Art Association
REFRESH-INTERVAL;VALUE=DURATION:PT1H
X-Robots-Tag:noindex
X-PUBLISHED-TTL:PT1H
BEGIN:VTIMEZONE
TZID:America/Los_Angeles
BEGIN:DAYLIGHT
TZOFFSETFROM:-0800
TZOFFSETTO:-0700
TZNAME:PDT
DTSTART:20240310T100000
END:DAYLIGHT
BEGIN:STANDARD
TZOFFSETFROM:-0700
TZOFFSETTO:-0800
TZNAME:PST
DTSTART:20241103T090000
END:STANDARD
BEGIN:DAYLIGHT
TZOFFSETFROM:-0800
TZOFFSETTO:-0700
TZNAME:PDT
DTSTART:20250309T100000
END:DAYLIGHT
BEGIN:STANDARD
TZOFFSETFROM:-0700
TZOFFSETTO:-0800
TZNAME:PST
DTSTART:20251102T090000
END:STANDARD
BEGIN:DAYLIGHT
TZOFFSETFROM:-0800
TZOFFSETTO:-0700
TZNAME:PDT
DTSTART:20260308T100000
END:DAYLIGHT
BEGIN:STANDARD
TZOFFSETFROM:-0700
TZOFFSETTO:-0800
TZNAME:PST
DTSTART:20261101T090000
END:STANDARD
END:VTIMEZONE
BEGIN:VEVENT
DTSTART;TZID=America/Los_Angeles:20250829T090000
DTEND;TZID=America/Los_Angeles:20251028T160000
DTSTAMP:20260424T194637
CREATED:20250807T001000Z
LAST-MODIFIED:20251003T225223Z
UID:5549-1756458000-1761667200@centralcoastartassociation.com
SUMMARY:Four Member Community Exhibit at MOW Sept-Oct
DESCRIPTION:Four Member Community Exhibit at MOW \n\nFour great CCAA artists have a show up at Meals on Wheels in Pacific Grove August 29 through October 28\, 2025. \nDeanna DeChauron\nDaniel Jordan\nMarie Gilmore\nHelen Mackinlay \nReception:\nSeptember 5th from 5-7pm
URL:https://centralcoastartassociation.com/event/four-member-community-exhibit-at-mow/
LOCATION:Meels on Wheels Community Center\, 700 Jewell Ave\, Pacific Grove\, California\, 93950
CATEGORIES:Exhibits
ATTACH;FMTTYPE=image/jpeg:https://centralcoastartassociation.com/wp-content/uploads/2025/08/Meals-on-Wheels-Community-Show-Sept-Oct-2025-2.jpg
END:VEVENT
END:VCALENDAR