BEGIN:VCALENDAR
VERSION:2.0
PRODID:-//Central Coast Art Association - ECPv6.15.18//NONSGML v1.0//EN
CALSCALE:GREGORIAN
METHOD:PUBLISH
X-ORIGINAL-URL:https://centralcoastartassociation.com
X-WR-CALDESC:Events for Central Coast Art Association
REFRESH-INTERVAL;VALUE=DURATION:PT1H
X-Robots-Tag:noindex
X-PUBLISHED-TTL:PT1H
BEGIN:VTIMEZONE
TZID:America/Los_Angeles
BEGIN:DAYLIGHT
TZOFFSETFROM:-0800
TZOFFSETTO:-0700
TZNAME:PDT
DTSTART:20240310T100000
END:DAYLIGHT
BEGIN:STANDARD
TZOFFSETFROM:-0700
TZOFFSETTO:-0800
TZNAME:PST
DTSTART:20241103T090000
END:STANDARD
BEGIN:DAYLIGHT
TZOFFSETFROM:-0800
TZOFFSETTO:-0700
TZNAME:PDT
DTSTART:20250309T100000
END:DAYLIGHT
BEGIN:STANDARD
TZOFFSETFROM:-0700
TZOFFSETTO:-0800
TZNAME:PST
DTSTART:20251102T090000
END:STANDARD
BEGIN:DAYLIGHT
TZOFFSETFROM:-0800
TZOFFSETTO:-0700
TZNAME:PDT
DTSTART:20260308T100000
END:DAYLIGHT
BEGIN:STANDARD
TZOFFSETFROM:-0700
TZOFFSETTO:-0800
TZNAME:PST
DTSTART:20261101T090000
END:STANDARD
END:VTIMEZONE
BEGIN:VEVENT
DTSTART;TZID=America/Los_Angeles:20251115T090000
DTEND;TZID=America/Los_Angeles:20251115T150000
DTSTAMP:20260425T044813
CREATED:20250910T060005Z
LAST-MODIFIED:20250916T152058Z
UID:5934-1763197200-1763218800@centralcoastartassociation.com
SUMMARY:Maggie Hellmann Workshop
DESCRIPTION:The Joys of Color Workshop with Maggie Hellmann\nLearn from renowned artist\, Maggie Hellmann\, to use the power of color to convey your ideas. Learn it’s secrets. Learn it’s language. Color Scales. Color Contrasts. Color Power. Color Joy! \nWe will learn about\, discuss and practice using different color ideas in this day-long workshop. We’ll discuss and share various color possibilities. We’ll think outside the box. We’ll explore different methods for using color to highlight your idea. And you will choose your own path forward with renewed courage and color knowledge. \nSIGN UP HERE >> \nSaturday\, November 15th\, 2025\, 9am – 3pm with a break for lunch\nAt the Oldemeyer Center (986 Hilby Avenue\, Seaside)\nAll levels and all mediums welcome – but no solvents indoors please\nBring your… \n\nfavorite photo to paint from.\nown art supplies.\nlunch.\n\nSign up soon as space is limited and will fill up quickly. SIGN UP HERE. >> \nThe non-refundable fee is $90 for CCAA members and $125 for non-members. Note that non-members can join CCAA for just $35 a year ($10 for full time students) to take advantage of the lower member fee; you can join here. >> \nMaggie Renner Hellmann has enjoyed painting professionally for over 45 years and has taught painting for over 20 years. Maggie loves teaching almost as much as she loves painting. See more of her work at MaggieHellmann.com \nIf you have questions\, please click here to connect with CCAA’s Workshop leader\, Sandra Uecker.
URL:https://centralcoastartassociation.com/event/maggie-hellmann-workshop/
LOCATION:Oldemyer Center\, 986 Hilby Ave\, Seaside\, CA\, 93955\, United States
CATEGORIES:Workshops
ATTACH;FMTTYPE=image/jpeg:https://centralcoastartassociation.com/wp-content/uploads/2025/09/maggie-hellman.jpg
END:VEVENT
END:VCALENDAR