BEGIN:VCALENDAR
VERSION:2.0
PRODID:-//Central Coast Art Association - ECPv6.15.18//NONSGML v1.0//EN
CALSCALE:GREGORIAN
METHOD:PUBLISH
X-WR-CALNAME:Central Coast Art Association
X-ORIGINAL-URL:https://centralcoastartassociation.com
X-WR-CALDESC:Events for Central Coast Art Association
REFRESH-INTERVAL;VALUE=DURATION:PT1H
X-Robots-Tag:noindex
X-PUBLISHED-TTL:PT1H
BEGIN:VTIMEZONE
TZID:America/Los_Angeles
BEGIN:DAYLIGHT
TZOFFSETFROM:-0800
TZOFFSETTO:-0700
TZNAME:PDT
DTSTART:20250309T100000
END:DAYLIGHT
BEGIN:STANDARD
TZOFFSETFROM:-0700
TZOFFSETTO:-0800
TZNAME:PST
DTSTART:20251102T090000
END:STANDARD
BEGIN:DAYLIGHT
TZOFFSETFROM:-0800
TZOFFSETTO:-0700
TZNAME:PDT
DTSTART:20260308T100000
END:DAYLIGHT
BEGIN:STANDARD
TZOFFSETFROM:-0700
TZOFFSETTO:-0800
TZNAME:PST
DTSTART:20261101T090000
END:STANDARD
BEGIN:DAYLIGHT
TZOFFSETFROM:-0800
TZOFFSETTO:-0700
TZNAME:PDT
DTSTART:20270314T100000
END:DAYLIGHT
BEGIN:STANDARD
TZOFFSETFROM:-0700
TZOFFSETTO:-0800
TZNAME:PST
DTSTART:20271107T090000
END:STANDARD
END:VTIMEZONE
BEGIN:VEVENT
DTSTART;TZID=America/Los_Angeles:20260306T090000
DTEND;TZID=America/Los_Angeles:20260430T160000
DTSTAMP:20260424T073649
CREATED:20260302T230622Z
LAST-MODIFIED:20260307T182959Z
UID:6535-1772787600-1777564800@centralcoastartassociation.com
SUMMARY:Four Member Community Exhibit at MOW March - April
DESCRIPTION:Four Member Community Exhibit at MOW \n\nFour CCAA artists have a show at Meals on Wheels in Pacific Grove March 6 through April 30\, 2026. \nBarbara West\nNancy Donaldson\nDiane Grindol\nEmily Hull-Parsons \nReception:\nMarch 13th from 5-7pm
URL:https://centralcoastartassociation.com/event/four-member-community-exhibit-at-mow-march-april/
LOCATION:Meels on Wheels Community Center\, 700 Jewell Ave\, Pacific Grove\, California\, 93950
CATEGORIES:Exhibits
ATTACH;FMTTYPE=image/jpeg:https://centralcoastartassociation.com/wp-content/uploads/2026/03/Small-Group-Show-March-2026.jpg
END:VEVENT
BEGIN:VEVENT
DTSTART;VALUE=DATE:20260310
DTEND;VALUE=DATE:20260501
DTSTAMP:20260424T073649
CREATED:20250303T231505Z
LAST-MODIFIED:20260316T032404Z
UID:4328-1773100800-1777593599@centralcoastartassociation.com
SUMMARY:Call for Artists Spring Juried Show
DESCRIPTION:Submissions for the CCAA Spring Juried Show. \nCCAA will be holding its juried spring exhibit to showcase our member’s art.  It will be shown at the Avery Gallery in the Seaside City Hall at 440 Harcourt Avenue.   \nWe will be taking submissions through April 30. Drop off artwork on May 9th from 10am to 1pm and pick up will be on June 26th from 12pm to 3pm. \nThe goal is to show the work of as many artists as possible\, and you can show two pieces.  We will have a jury awarding prizes. \nThe reception will be held on Friday May 22nd from 7-8:30. \nFEE: $25.00 for the first painting\, $10 each for the second and third paintings. \nSubmit Your Artwork: HERE>> \nRead Requirements and Guidelines: HERE>> \nThe Reception will be May 22nd from 7-8:30. All member artists are welcome at this show\, and we will have juried prizes awarded at the reception. \n 
URL:https://centralcoastartassociation.com/event/call-for-artists-spring-juried-show/
LOCATION:Avery Gallery Seaside City Hall\, 440 Harcourt Avenue\, Seaside\, CA\, 93955
CATEGORIES:Call for Artists
ATTACH;FMTTYPE=image/png:https://centralcoastartassociation.com/wp-content/uploads/2025/03/Screenshot-2026-03-01-at-1.28.33-PM.png
END:VEVENT
BEGIN:VEVENT
DTSTART;TZID=America/Los_Angeles:20260425T100000
DTEND;TZID=America/Los_Angeles:20260425T120000
DTSTAMP:20260424T073649
CREATED:20240815T040425Z
LAST-MODIFIED:20260407T160348Z
UID:1321-1777111200-1777118400@centralcoastartassociation.com
SUMMARY:CCAA Paint-outs
DESCRIPTION:Weather permitting\, a group of CCAA artists get together Saturdays from 10 am until noon to paint at various locations around the Monterey Bay Area. You are invited to join in when you can. Invitations are emailed Thursdays prior to the event to provide the location of the upcoming Paint-out location. \nIf you would like to receive these notifications\, contact Lynn using CCAA’s Contact Us Form
URL:https://centralcoastartassociation.com/event/ccaa-paint-outs-2/
LOCATION:CA
CATEGORIES:Meetups
ATTACH;FMTTYPE=image/jpeg:https://centralcoastartassociation.com/wp-content/uploads/2024/08/plein-air-painting-640.jpg
END:VEVENT
BEGIN:VEVENT
DTSTART;TZID=America/Los_Angeles:20260427T160000
DTEND;TZID=America/Los_Angeles:20260427T160000
DTSTAMP:20260424T073649
CREATED:20240815T034451Z
LAST-MODIFIED:20260407T155910Z
UID:1315-1777305600-1777305600@centralcoastartassociation.com
SUMMARY:Monthly Demonstration
DESCRIPTION:Zoom Link and More Information Here: \nRich Brimer: Plein Air Seascapes\nMonday\, April 27th at 4 pm
URL:https://centralcoastartassociation.com/event/monthly-demonstration/
LOCATION:CA
CATEGORIES:Workshops
ATTACH;FMTTYPE=image/jpeg:https://centralcoastartassociation.com/wp-content/uploads/2024/08/Rich-Brimer-Surging-Surf-Garrapata.jpg
END:VEVENT
BEGIN:VEVENT
DTSTART;TZID=America/Los_Angeles:20260509T100000
DTEND;TZID=America/Los_Angeles:20260509T130000
DTSTAMP:20260424T073649
CREATED:20250416T231112Z
LAST-MODIFIED:20260303T032641Z
UID:4827-1778320800-1778331600@centralcoastartassociation.com
SUMMARY:CCAA Spring Show Artwork Delivery
DESCRIPTION:CCAA Artists \nRECEIVING ENTRIES: May 9\, 10:00 am – 1:00 pm \n– Early or Late Deliveries will not be accepted. \n  \n  \n 
URL:https://centralcoastartassociation.com/event/ccaa-show-art-delivery/
LOCATION:Avery Gallery Seaside City Hall\, 440 Harcourt Avenue\, Seaside\, CA\, 93955
END:VEVENT
BEGIN:VEVENT
DTSTART;TZID=America/Los_Angeles:20260511T090000
DTEND;TZID=America/Los_Angeles:20260625T160000
DTSTAMP:20260424T073649
CREATED:20250303T170627Z
LAST-MODIFIED:20260306T201042Z
UID:4322-1778490000-1782403200@centralcoastartassociation.com
SUMMARY:Spring Juried Show
DESCRIPTION:CCAA Spring Juried Show \nCCAA will be holding its juried spring exhibit to showcase our member’s art. It will be shown at the Avery Gallery in the Seaside City Hall at 440 Harcourt Avenue. \nJoin us at the reception on May 22\, 7-8:30pm  to connect with artists in a fun and creative environment and see some great art from CCAA members. \nEntries are judged by a panel of independent artists. Prizes will be awarded for first place\, second place\, third place\, and honorable mention. \nThe show is open weekdays.
URL:https://centralcoastartassociation.com/event/spring-juried-show/
LOCATION:Avery Gallery Seaside City Hall\, 440 Harcourt Avenue\, Seaside\, CA\, 93955
CATEGORIES:Exhibits
ATTACH;FMTTYPE=image/png:https://centralcoastartassociation.com/wp-content/uploads/2025/03/Screenshot-2026-03-01-at-1.28.33-PM.png
END:VEVENT
BEGIN:VEVENT
DTSTART;TZID=America/Los_Angeles:20260522T190000
DTEND;TZID=America/Los_Angeles:20260522T203000
DTSTAMP:20260424T073649
CREATED:20250303T171037Z
LAST-MODIFIED:20260306T200641Z
UID:4324-1779476400-1779481800@centralcoastartassociation.com
SUMMARY:Reception for Spring Juried Show
DESCRIPTION:Join us and see all the great work from our members at the reception for our Spring Members Juried Show on Friday May 22nd from 7-8:30pm at the Avery Gallery in the Seaside City Hall at 440 Harcourt Avenue. \nMeet the artists. Prizes will awarded to the winners. \nShow runs 5/11 to 6/25
URL:https://centralcoastartassociation.com/event/reception-for-spring-juried-show/
LOCATION:Avery Gallery Seaside City Hall\, 440 Harcourt Avenue\, Seaside\, CA\, 93955
CATEGORIES:Exhibits
ATTACH;FMTTYPE=image/png:https://centralcoastartassociation.com/wp-content/uploads/2025/03/Screenshot-2026-03-01-at-1.28.33-PM.png
END:VEVENT
BEGIN:VEVENT
DTSTART;TZID=America/Los_Angeles:20260626T120000
DTEND;TZID=America/Los_Angeles:20260626T150000
DTSTAMP:20260424T073649
CREATED:20250417T003536Z
LAST-MODIFIED:20260303T032853Z
UID:4835-1782475200-1782486000@centralcoastartassociation.com
SUMMARY:CCAA Spring Show Artwork Pickup
DESCRIPTION:CCAA Artists \nENTRY PICKUP: June 26 12:00 pm to 3:00 pm \n– Early or Late Pickups will not be accepted. \nIf delivery and/or pickup times do not work for you\, it is your responsibility to arrange for someone else to bring and/or pickup your artwork. \n 
URL:https://centralcoastartassociation.com/event/ccaa-show-artwork-pickup/
LOCATION:Avery Gallery Seaside City Hall\, 440 Harcourt Avenue\, Seaside\, CA\, 93955
END:VEVENT
END:VCALENDAR