BEGIN:VCALENDAR
VERSION:2.0
PRODID:-//Central Coast Art Association - ECPv6.15.18//NONSGML v1.0//EN
CALSCALE:GREGORIAN
METHOD:PUBLISH
X-WR-CALNAME:Central Coast Art Association
X-ORIGINAL-URL:https://centralcoastartassociation.com
X-WR-CALDESC:Events for Central Coast Art Association
REFRESH-INTERVAL;VALUE=DURATION:PT1H
X-Robots-Tag:noindex
X-PUBLISHED-TTL:PT1H
BEGIN:VTIMEZONE
TZID:America/Los_Angeles
BEGIN:DAYLIGHT
TZOFFSETFROM:-0800
TZOFFSETTO:-0700
TZNAME:PDT
DTSTART:20230312T100000
END:DAYLIGHT
BEGIN:STANDARD
TZOFFSETFROM:-0700
TZOFFSETTO:-0800
TZNAME:PST
DTSTART:20231105T090000
END:STANDARD
BEGIN:DAYLIGHT
TZOFFSETFROM:-0800
TZOFFSETTO:-0700
TZNAME:PDT
DTSTART:20240310T100000
END:DAYLIGHT
BEGIN:STANDARD
TZOFFSETFROM:-0700
TZOFFSETTO:-0800
TZNAME:PST
DTSTART:20241103T090000
END:STANDARD
BEGIN:DAYLIGHT
TZOFFSETFROM:-0800
TZOFFSETTO:-0700
TZNAME:PDT
DTSTART:20250309T100000
END:DAYLIGHT
BEGIN:STANDARD
TZOFFSETFROM:-0700
TZOFFSETTO:-0800
TZNAME:PST
DTSTART:20251102T090000
END:STANDARD
END:VTIMEZONE
BEGIN:VEVENT
DTSTART;VALUE=DATE:20240301
DTEND;VALUE=DATE:20250101
DTSTAMP:20260425T161006
CREATED:20240815T161129Z
LAST-MODIFIED:20240824T153659Z
UID:1346-1709251200-1735689599@centralcoastartassociation.com
SUMMARY:Monterey Airport Exhibition
DESCRIPTION:More Info Here:  \nVisualizing the Many Wonders of Monterey County Through Art\nThe exhibit serves to draw attention to the beauty\, enhancement\, history and serenity of Monterey County for the over 500\,000 annual passengers that use MRY.
URL:https://centralcoastartassociation.com/event/monterey-airport-exhibition/
LOCATION:Monterey Regional Airport\, 200 Fred Kane Drive\, Monterey\, CA\, 93940\, United States
CATEGORIES:Exhibits
ATTACH;FMTTYPE=image/jpeg:https://centralcoastartassociation.com/wp-content/uploads/2024/07/Monterey-Airport-Exhibit-Reception-1200.jpg
END:VEVENT
BEGIN:VEVENT
DTSTART;TZID=America/Los_Angeles:20241012T110000
DTEND;TZID=America/Los_Angeles:20241012T170000
DTSTAMP:20260425T161006
CREATED:20241004T220736Z
LAST-MODIFIED:20241004T220736Z
UID:3409-1728730800-1728752400@centralcoastartassociation.com
SUMMARY:Open Studios Exhibit 2024
DESCRIPTION:CCAA is hosting an open Studio Exhibit \n\nSaturday October 12 and Sunday October 13\, 11am – 5pm\n42 El Caminito del Norte\, Monterey\n\nStop by and enjoy the work of several accomplished CCAA artists in one convenient stop: \nSee a wide range of artistic styles\, media\, sizes\, and prices. \nSmall gift items and artist note cards will  also  be available \nFor more information on the Monterey Open Studios event\, including a map of all the artist locations\, visit the Monterey Arts Council page at:  https://arts4mc.org/open-studios/
URL:https://centralcoastartassociation.com/event/open-studios-exhibit-2024-opening/
LOCATION:Open Studios\, 42 El Caminito del Norte\, Monterey\, CA\, 93940\, United States
CATEGORIES:Exhibits
ATTACH;FMTTYPE=image/jpeg:https://centralcoastartassociation.com/wp-content/uploads/2024/09/Open-Studios-2024.jpg
END:VEVENT
BEGIN:VEVENT
DTSTART;TZID=America/Los_Angeles:20241013T110000
DTEND;TZID=America/Los_Angeles:20241013T170000
DTSTAMP:20260425T161006
CREATED:20240905T023949Z
LAST-MODIFIED:20241004T220843Z
UID:2505-1728817200-1728838800@centralcoastartassociation.com
SUMMARY:Open Studios Exhibit 2024
DESCRIPTION:CCAA is hosting an open Studio Exhibit \n\nSaturday October 12 and Sunday October 13\, 11am – 5pm\n42 El Caminito del Norte\, Monterey\n\nStop by and enjoy the work of several accomplished CCAA artists in one convenient stop: \nSee a wide range of artistic styles\, media\, sizes\, and prices. \nSmall gift items and artist note cards will  also  be available \nFor more information on the Monterey Open Studios event\, including a map of all the artist locations\, visit the Monterey Arts Council page at:  https://arts4mc.org/open-studios/
URL:https://centralcoastartassociation.com/event/open-studio-exhibit-2024/
LOCATION:Open Studios\, 42 El Caminito del Norte\, Monterey\, CA\, 93940\, United States
CATEGORIES:Exhibits
ATTACH;FMTTYPE=image/jpeg:https://centralcoastartassociation.com/wp-content/uploads/2024/09/Open-Studios-2024.jpg
END:VEVENT
BEGIN:VEVENT
DTSTART;VALUE=DATE:20241016
DTEND;VALUE=DATE:20241128
DTSTAMP:20260425T161006
CREATED:20240905T014930Z
LAST-MODIFIED:20241106T031739Z
UID:2480-1729036800-1732751999@centralcoastartassociation.com
SUMMARY:Sunset Exhibit Call for Artists
DESCRIPTION:Submit Your Art for the Sunset Exhibit HERE >> \nRead the Exhibit Guidelines HERE >> \nOur exciting new winter show at the Marjorie Evans Gallery at the Sunset Center is currently open for submissions until November 27th.  Each member may submit two paintings for consideration.  The maximum size will be 20 by 24 inches.   \nCCAA has been chosen out of 100 applicants to exhibit paintings at the Marjorie Evans Gallery at the Sunset Center in Carmel. Submissions are open from October 16 to November 27th. \nReception is Friday\, 10 January 2025 from 5-7pm.
URL:https://centralcoastartassociation.com/event/sunset-exhibit-call-for-artists/
LOCATION:Marjorie Evans Gallery\, San Carlos St at Ninth Ave\, Carmel\, CA\, 93921\, United States
CATEGORIES:Call for Artists
ATTACH;FMTTYPE=image/jpeg:https://centralcoastartassociation.com/wp-content/uploads/2024/09/Sunset-Cultural-Center-450.jpg
END:VEVENT
END:VCALENDAR